BEGIN:VCALENDAR
VERSION:2.0
PRODID:-//mbsrcanarias - ECPv5.14.1//NONSGML v1.0//EN
CALSCALE:GREGORIAN
METHOD:PUBLISH
X-WR-CALNAME:mbsrcanarias
X-ORIGINAL-URL:http://mbsrcanarias.org
X-WR-CALDESC:Eventos para mbsrcanarias
BEGIN:VTIMEZONE
TZID:Atlantic/Canary
BEGIN:DAYLIGHT
TZOFFSETFROM:+0000
TZOFFSETTO:+0100
TZNAME:WEST
DTSTART:20220327T010000
END:DAYLIGHT
BEGIN:STANDARD
TZOFFSETFROM:+0100
TZOFFSETTO:+0000
TZNAME:WET
DTSTART:20221030T010000
END:STANDARD
END:VTIMEZONE
BEGIN:VEVENT
DTSTART;TZID=Atlantic/Canary:20220706T190000
DTEND;TZID=Atlantic/Canary:20220706T203000
DTSTAMP:20260423T164210
CREATED:20220621T103551Z
LAST-MODIFIED:20220621T103551Z
UID:1440-1657134000-1657139400@mbsrcanarias.org
SUMMARY:Charla informativa gratuita programa MBSR
DESCRIPTION:Relacionado
URL:http://mbsrcanarias.org/evento/charla-informativa-gratuita-programa-mbsr-4/
END:VEVENT
END:VCALENDAR